BEGIN:VCALENDAR
VERSION:2.0
PRODID:-//Caythorpe Primary School - ECPv6.15.17.1//NONSGML v1.0//EN
CALSCALE:GREGORIAN
METHOD:PUBLISH
X-WR-CALNAME:Caythorpe Primary School
X-ORIGINAL-URL:https://caythorpe-cit.co.uk
X-WR-CALDESC:Events for Caythorpe Primary School
REFRESH-INTERVAL;VALUE=DURATION:PT1H
X-Robots-Tag:noindex
X-PUBLISHED-TTL:PT1H
BEGIN:VTIMEZONE
TZID:Europe/London
BEGIN:DAYLIGHT
TZOFFSETFROM:+0000
TZOFFSETTO:+0100
TZNAME:BST
DTSTART:20240331T010000
END:DAYLIGHT
BEGIN:STANDARD
TZOFFSETFROM:+0100
TZOFFSETTO:+0000
TZNAME:GMT
DTSTART:20241027T010000
END:STANDARD
BEGIN:DAYLIGHT
TZOFFSETFROM:+0000
TZOFFSETTO:+0100
TZNAME:BST
DTSTART:20250330T010000
END:DAYLIGHT
BEGIN:STANDARD
TZOFFSETFROM:+0100
TZOFFSETTO:+0000
TZNAME:GMT
DTSTART:20251026T010000
END:STANDARD
BEGIN:DAYLIGHT
TZOFFSETFROM:+0000
TZOFFSETTO:+0100
TZNAME:BST
DTSTART:20260329T010000
END:DAYLIGHT
BEGIN:STANDARD
TZOFFSETFROM:+0100
TZOFFSETTO:+0000
TZNAME:GMT
DTSTART:20261025T010000
END:STANDARD
END:VTIMEZONE
BEGIN:VEVENT
DTSTART;VALUE=DATE:20250602
DTEND;VALUE=DATE:20250603
DTSTAMP:20260419T140007
CREATED:20250219T101637Z
LAST-MODIFIED:20250219T101637Z
UID:474-1748822400-1748908799@caythorpe-cit.co.uk
SUMMARY:Staff Training Day - school closed
DESCRIPTION:
URL:https://caythorpe-cit.co.uk/event/staff-training-day-school-closed/
END:VEVENT
BEGIN:VEVENT
DTSTART;VALUE=DATE:20250602
DTEND;VALUE=DATE:20250603
DTSTAMP:20260419T140007
CREATED:20250423T125432Z
LAST-MODIFIED:20250423T125432Z
UID:1435-1748822400-1748908799@caythorpe-cit.co.uk
SUMMARY:INSET Day
DESCRIPTION:School closed for staff training
URL:https://caythorpe-cit.co.uk/event/inset-day/
END:VEVENT
BEGIN:VEVENT
DTSTART;VALUE=DATE:20250603
DTEND;VALUE=DATE:20250604
DTSTAMP:20260419T140007
CREATED:20250219T101702Z
LAST-MODIFIED:20250219T101702Z
UID:476-1748908800-1748995199@caythorpe-cit.co.uk
SUMMARY:Back to School
DESCRIPTION:
URL:https://caythorpe-cit.co.uk/event/back-to-school-3/
END:VEVENT
BEGIN:VEVENT
DTSTART;VALUE=DATE:20250603
DTEND;VALUE=DATE:20250604
DTSTAMP:20260419T140007
CREATED:20250423T125527Z
LAST-MODIFIED:20250423T131811Z
UID:1437-1748908800-1748995199@caythorpe-cit.co.uk
SUMMARY:Narnia Viking Workshop
DESCRIPTION:Wolfric invades Caythorpe Primary School again with their engaging Viking workshop! \nYear 3 and 4 pupils only.
URL:https://caythorpe-cit.co.uk/event/narnia-viking-workshop/
END:VEVENT
BEGIN:VEVENT
DTSTART;TZID=Europe/London:20250604T080000
DTEND;TZID=Europe/London:20250606T170000
DTSTAMP:20260419T140007
CREATED:20250423T131900Z
LAST-MODIFIED:20250423T131900Z
UID:1441-1749024000-1749229200@caythorpe-cit.co.uk
SUMMARY:Year 4\, 5\, 6 Residential to PGL
DESCRIPTION:
URL:https://caythorpe-cit.co.uk/event/year-4-5-6-residential-to-pgl/
END:VEVENT
BEGIN:VEVENT
DTSTART;VALUE=DATE:20250610
DTEND;VALUE=DATE:20250611
DTSTAMP:20260419T140007
CREATED:20250423T131940Z
LAST-MODIFIED:20250423T131940Z
UID:1443-1749513600-1749599999@caythorpe-cit.co.uk
SUMMARY:KGGS and Carres Year 5 Taster Day
DESCRIPTION:
URL:https://caythorpe-cit.co.uk/event/kggs-and-carres-year-5-taster-day/
END:VEVENT
BEGIN:VEVENT
DTSTART;VALUE=DATE:20250612
DTEND;VALUE=DATE:20250613
DTSTAMP:20260419T140007
CREATED:20250423T132016Z
LAST-MODIFIED:20250423T132016Z
UID:1445-1749686400-1749772799@caythorpe-cit.co.uk
SUMMARY:KGGS and Carres Grammar Schools Taster Day
DESCRIPTION:
URL:https://caythorpe-cit.co.uk/event/kggs-and-carres-grammar-schools-taster-day/
END:VEVENT
BEGIN:VEVENT
DTSTART;TZID=Europe/London:20250612T143000
DTEND;TZID=Europe/London:20250612T153000
DTSTAMP:20260419T140007
CREATED:20250423T132101Z
LAST-MODIFIED:20250423T132101Z
UID:1447-1749738600-1749742200@caythorpe-cit.co.uk
SUMMARY:FSA Summer Planning Meeting
DESCRIPTION:All welcome \n 
URL:https://caythorpe-cit.co.uk/event/fsa-summer-planning-meeting/
END:VEVENT
BEGIN:VEVENT
DTSTART;VALUE=DATE:20250624
DTEND;VALUE=DATE:20250625
DTSTAMP:20260419T140007
CREATED:20250423T132134Z
LAST-MODIFIED:20250423T132134Z
UID:1449-1750723200-1750809599@caythorpe-cit.co.uk
SUMMARY:School Games Day
DESCRIPTION:
URL:https://caythorpe-cit.co.uk/event/school-games-day/
END:VEVENT
END:VCALENDAR