BEGIN:VCALENDAR
VERSION:2.0
PRODID:-//Caythorpe Primary School - ECPv6.15.17.1//NONSGML v1.0//EN
CALSCALE:GREGORIAN
METHOD:PUBLISH
X-ORIGINAL-URL:https://caythorpe-cit.co.uk
X-WR-CALDESC:Events for Caythorpe Primary School
REFRESH-INTERVAL;VALUE=DURATION:PT1H
X-Robots-Tag:noindex
X-PUBLISHED-TTL:PT1H
BEGIN:VTIMEZONE
TZID:Europe/London
BEGIN:DAYLIGHT
TZOFFSETFROM:+0000
TZOFFSETTO:+0100
TZNAME:BST
DTSTART:20240331T010000
END:DAYLIGHT
BEGIN:STANDARD
TZOFFSETFROM:+0100
TZOFFSETTO:+0000
TZNAME:GMT
DTSTART:20241027T010000
END:STANDARD
BEGIN:DAYLIGHT
TZOFFSETFROM:+0000
TZOFFSETTO:+0100
TZNAME:BST
DTSTART:20250330T010000
END:DAYLIGHT
BEGIN:STANDARD
TZOFFSETFROM:+0100
TZOFFSETTO:+0000
TZNAME:GMT
DTSTART:20251026T010000
END:STANDARD
BEGIN:DAYLIGHT
TZOFFSETFROM:+0000
TZOFFSETTO:+0100
TZNAME:BST
DTSTART:20260329T010000
END:DAYLIGHT
BEGIN:STANDARD
TZOFFSETFROM:+0100
TZOFFSETTO:+0000
TZNAME:GMT
DTSTART:20261025T010000
END:STANDARD
END:VTIMEZONE
BEGIN:VEVENT
DTSTART;VALUE=DATE:20250519
DTEND;VALUE=DATE:20250520
DTSTAMP:20260419T170950
CREATED:20250423T124854Z
LAST-MODIFIED:20250423T124854Z
UID:1429-1747612800-1747699199@caythorpe-cit.co.uk
SUMMARY:EYFS and KS1 Beach Trip
DESCRIPTION:
URL:https://caythorpe-cit.co.uk/event/eyfs-and-ks1-beach-trip/
END:VEVENT
BEGIN:VEVENT
DTSTART;TZID=Europe/London:20250519T080000
DTEND;TZID=Europe/London:20250523T170000
DTSTAMP:20260419T170950
CREATED:20250423T125343Z
LAST-MODIFIED:20250423T125343Z
UID:1433-1747641600-1748019600@caythorpe-cit.co.uk
SUMMARY:Great Space Walk to School Week
DESCRIPTION:
URL:https://caythorpe-cit.co.uk/event/great-space-walk-to-school-week/
END:VEVENT
END:VCALENDAR